BEGIN:VCALENDAR
PRODID:-//eluceo/ical//2.0/EN
VERSION:2.0
CALSCALE:GREGORIAN
BEGIN:VEVENT
UID:27d45ba945e608c9c486d0e5b199fac6
DTSTAMP:20260422T115402Z
SUMMARY:Három – Ápák ée fiúk / Zuzi / 4Dogs / Mojo
DESCRIPTION:<h2> </h2>\n<h2 style="text-align: center\;"><strong>Pálení 
 čarodějnic s místními kapelami.</strong></h2>\n<p> </p>
URL:https://mklub.kzvalmez.cz/udalost/6160-harom-apak-ee-fiuk-zuzi-4dogs-mo
 jo/
DTSTART:20260430T190000
DTEND:20260430T190000
LOCATION:M-klub - M-klub
ORGANIZER;CN=M-klub:mailto:kzvalmez@kzvalmez.cz
END:VEVENT
END:VCALENDAR
