BEGIN:VCALENDAR
PRODID:-//eluceo/ical//2.0/EN
VERSION:2.0
CALSCALE:GREGORIAN
BEGIN:VEVENT
UID:1c998a5b9e93e67997f47fd2db1d36c8
DTSTAMP:20260422T121249Z
SUMMARY:Few Flowers a jazzHec & vocal
DESCRIPTION:<p style="text-align: center\;"><span style="font-weight: 400\;
 "><strong>Few Flowers</strong> je šestičlenná autorská kapela pocháze
 jící z Valašska\, která vznikla v roce 2019. Ve své tvorbě propojuje
  moderní pop-rock s prvky soulu\, R&amp\;B a country\, čímž vytváří
  osobitý a snadno rozpoznatelný zvuk.</span></p>\n<p style="text-align: 
 center\;"><b>jazzHec &amp\; vocal</b><span style="font-weight: 400\;"> je 
 osmičlenná vsetínsko-meziříčská kapela se širokým repertoárovým
  a zvukovým záběrem\, hrající standardy jazzových velikánů (Miles 
 Davis\, Chick Corea\, Dizzi Gilespie\, atd.)\, ale také i modernější k
 ousky\, včetně jazzově zpracovaných písní Michaele Jacksona\, Stinga
 \, či Stevieho Wondera.</span></p>
URL:https://mklub.kzvalmez.cz/udalost/6163-few-flowers-a-jazzhec-vocal/
DTSTART:20260502T200000
DTEND:20260502T200000
LOCATION:M-klub - M-klub
ORGANIZER;CN=M-klub:mailto:kzvalmez@kzvalmez.cz
END:VEVENT
END:VCALENDAR
