BEGIN:VCALENDAR
PRODID:-//eluceo/ical//2.0/EN
VERSION:2.0
CALSCALE:GREGORIAN
BEGIN:VEVENT
UID:2eafdfbcc59057046716ec211f515931
DTSTAMP:20260422T115551Z
SUMMARY:Mimihraní
DESCRIPTION:<p style="text-align: center\;"><span style="font-weight: 400\;
 ">Lekce hudby pro batolata pod vedením zkušené lektorky a muzikantky Ev
 y Ludvík Kudrnové.</span></p>\n<p style="text-align: center\;"><span sty
 le="font-weight: 400\;">Zacinkáme si na zvonkohry a různé harmonizačn
 í nástroje\, rozezníme jemně hlas a zaměříme se jak na zábavu pro 
 děti\, tak na uvolnění hlasivek a celého těla rodičů. Probudíme v 
 sobě jaro formou písní\, melodií a zvuků nejen za doprovodu houslí.<
 /span></p>\n<p style="text-align: center\;"><span style="font-weight: 400\
 ;">Lektorka Mgr. Eva Ludvík Kudrnová je muzikantka a máma tří dětí.
  Provozuje soukromou poradnu\, kde se zabývá celostním přístupem k v
 ývoji řeči. K individuální harmonizaci dětí i dospělých využív
 á biorezonanci\, frekvenční ladičky a dotekové techniky Access Consci
 ousness. Několik let vedla muzikohrátky formou pravidelných kurzů\, p
 ůsobila jako lektorka psychomotorického vývoje dětí nebo jako chůva 
 v dětské skupině.</span></p>\n<p style="text-align: center\;"><span sty
 le="font-weight: 400\;">Více na:</span><a href="http://www.e-l-k.cz/"><sp
 an style="font-weight: 400\;"> www.e-l-k.cz</span></a></p>\n<p style="text
 -align: center\;"><span style="font-weight: 400\;">Vhodné pro děti od 1
   do 3 let</span></p>\n<p style="text-align: center\;"><span style="font-
 weight: 400\;">Délka cca 45 minut</span></p>\n<p style="text-align: cente
 r\;"><span style="font-weight: 400\;">Vstupné 100 Kč na osobu (dítě i 
 rodič) omezený počet návštěvníků celkem 25</span><b> </b></p>
URL:https://mklub.kzvalmez.cz/udalost/6165-mimihrani/
DTSTART:20260519T090000
DTEND:20260519T090000
LOCATION:M-klub - M-klub
ORGANIZER;CN=M-klub:mailto:kzvalmez@kzvalmez.cz
END:VEVENT
END:VCALENDAR
