BEGIN:VCALENDAR
PRODID:-//eluceo/ical//2.0/EN
VERSION:2.0
CALSCALE:GREGORIAN
BEGIN:VEVENT
UID:556005f547e92f9f59ba28e0e107c3ac
DTSTAMP:20260422T114739Z
SUMMARY:Co se děje v hlíně
DESCRIPTION:<p style="text-align: center\;"><span style="font-weight: 400\;
 ">Co se ukrývá pod povrchem? V hlíně se odehrávají malé\, tiché p
 říběhy\, které nejsou na první pohled vidět. Něco tam spí\, něco 
 se hýbe\, něco pomalu roste…</span></p>\n<p style="text-align: center\
 ;"><span style="font-weight: 400\;">Smyslové představení pro nejmenší
  diváky otevírá dveře do světa pod zemí\, kde se obrazy a zvuky jemn
 ě střídají a zvou děti k objevování\, dotekům a společné hře.</
 span></p>\n<p style="text-align: center\;"><span style="font-weight: 400\;
 ">Tímto světem vás provedou opět Anet a Terka\, studentky Ateliéru fy
 zického divadla JAMU\, které ve své tvorbě vycházejí z pohybu\, tich
 a i různých zvuků a hravé imaginace.</span></p>\n<p style="text-align:
  center\;"><span style="font-weight: 400\;">Během vystoupení se pracuje 
 s přírodními materiály a může dojít k ušpinění. :)</span></p>\n<
 p style="text-align: center\;"><span style="font-weight: 400\;">Délka i s
  hernou 50 minut</span></p>\n<p style="text-align: center\;"><span style="
 font-weight: 400\;">Pro děti od 6 měsíců až 36 měsíců</span></p>\n
 <p style="text-align: center\;"><span style="font-weight: 400\;">Kapacita:
  12 dětí + doprovod</span></p>\n<p style="text-align: center\;"><span st
 yle="font-weight: 400\;">Vstupné 100 Kč na každého návštěvníka (d
 ěti i rodiče)</span></p>
URL:https://mklub.kzvalmez.cz/udalost/6166-co-se-deje-v-hline/
DTSTART:20260526T140000
DTEND:20260526T140000
LOCATION:M-klub - M-klub
ORGANIZER;CN=M-klub:mailto:kzvalmez@kzvalmez.cz
END:VEVENT
END:VCALENDAR
