BEGIN:VCALENDAR
PRODID:-//eluceo/ical//2.0/EN
VERSION:2.0
CALSCALE:GREGORIAN
BEGIN:VEVENT
UID:94f594ae48145036f4abe7faae0c2736
DTSTAMP:20260422T194947Z
SUMMARY:Mimihraní
DESCRIPTION:<p> </p>\n<p style="text-align: center\;"><span style="font-we
 ight: 400\;">Známá muzikantka přináší nejmenším dětem živou hudb
 u\, která je hravou formou vtáhne do světa zvuků\, rytmu a pohybu.</sp
 an></p>\n<p style="text-align: center\;"><span style="font-weight: 400\;">
 Společný poslech podporuje přirozený rozvoj dítěte\, jeho vnímání
 \, socializaci i radost z živé hudby.</span></p>\n<p style="text-align: 
 center\;"><span style="font-weight: 400\;">Lektorka Mgr. Eva Ludvík Kudrn
 ová je muzikantka z kapely MDŽ a máma tří dětí. Provozuje soukromou
  poradnu\, kde se zabývá celostním přístupem k vývoji řeči. K indi
 viduální harmonizaci dětí i dospělých využívá biorezonanci\, frek
 venční ladičky a dotekové techniky Access Consciousness. Několik let 
 vedla muzikohrátky formou pravidelných kurzů\, působila jako lektorka 
 psychomotorického vývoje dětí nebo jako chůva v dětské skupině.</s
 pan></p>\n<p style="text-align: center\;"><span style="font-weight: 400\;"
 >Více na:</span><a href="http://www.e-l-k.cz/"><span style="font-weight: 
 400\;"> www.e-l-k.cz</span></a></p>\n<p style="text-align: center\;"><span
  style="font-weight: 400\;"> Pro děti od 2 měsíců do 3 let</span></p>
 \n<p style="text-align: center\;"><span style="font-weight: 400\;">Délka 
 45 minut</span></p>\n<p style="text-align: center\;"><span style="font-wei
 ght: 400\;">Vstupné 100 Kč na každého návštěvníka (děti i rodiče
 ) omezený počet návštěvníků</span></p>
URL:https://mklub.kzvalmez.cz/udalost/6169-mimihrani/
DTSTART:20260519T103000
DTEND:20260519T103000
LOCATION:M-klub - M-klub
ORGANIZER;CN=M-klub:mailto:kzvalmez@kzvalmez.cz
END:VEVENT
END:VCALENDAR
